BEGIN:VCALENDAR
VERSION:2.0
PRODID:-//INDIA CANADA CULTURAL ASSOCIATION - THUNDER BAY - ECPv6.15.20//NONSGML v1.0//EN
CALSCALE:GREGORIAN
METHOD:PUBLISH
X-ORIGINAL-URL:https://icatbay.com
X-WR-CALDESC:Events for INDIA CANADA CULTURAL ASSOCIATION - THUNDER BAY
REFRESH-INTERVAL;VALUE=DURATION:PT1H
X-Robots-Tag:noindex
X-PUBLISHED-TTL:PT1H
BEGIN:VTIMEZONE
TZID:America/Halifax
BEGIN:DAYLIGHT
TZOFFSETFROM:-0400
TZOFFSETTO:-0300
TZNAME:ADT
DTSTART:20240310T060000
END:DAYLIGHT
BEGIN:STANDARD
TZOFFSETFROM:-0300
TZOFFSETTO:-0400
TZNAME:AST
DTSTART:20241103T050000
END:STANDARD
BEGIN:DAYLIGHT
TZOFFSETFROM:-0400
TZOFFSETTO:-0300
TZNAME:ADT
DTSTART:20250309T060000
END:DAYLIGHT
BEGIN:STANDARD
TZOFFSETFROM:-0300
TZOFFSETTO:-0400
TZNAME:AST
DTSTART:20251102T050000
END:STANDARD
BEGIN:DAYLIGHT
TZOFFSETFROM:-0400
TZOFFSETTO:-0300
TZNAME:ADT
DTSTART:20260308T060000
END:DAYLIGHT
BEGIN:STANDARD
TZOFFSETFROM:-0300
TZOFFSETTO:-0400
TZNAME:AST
DTSTART:20261101T050000
END:STANDARD
BEGIN:DAYLIGHT
TZOFFSETFROM:-0400
TZOFFSETTO:-0300
TZNAME:ADT
DTSTART:20270314T060000
END:DAYLIGHT
BEGIN:STANDARD
TZOFFSETFROM:-0300
TZOFFSETTO:-0400
TZNAME:AST
DTSTART:20271107T050000
END:STANDARD
END:VTIMEZONE
BEGIN:VEVENT
DTSTART;TZID=America/Halifax:20260328T170000
DTEND;TZID=America/Halifax:20260328T210000
DTSTAMP:20260419T161431
CREATED:20250309T205706Z
LAST-MODIFIED:20250310T052054Z
UID:89-1774717200-1774731600@icatbay.com
SUMMARY:Taste Of India - 2026
DESCRIPTION:The festivities at Taste of India will not only showcase the rich flavors and traditions of Indian culture but will also support three local organizations doing vital work in our community for student education and child welfare.
URL:https://icatbay.com/event/taste-of-india-2026/
LOCATION:Italian Cultural Centre\, 132 Algoma St S\, Thunder Bay\, Ontario\, P7B 3B7\, Canada
CATEGORIES:Cultural Diversity,Fund Raiser
ORGANIZER;CN="India Canada Cultural Association - Thunder Bay":MAILTO:icatbay@outlook.com
END:VEVENT
BEGIN:VEVENT
DTSTART;TZID=America/Halifax:20251018T170000
DTEND;TZID=America/Halifax:20251018T220000
DTSTAMP:20260419T161431
CREATED:20250309T205956Z
LAST-MODIFIED:20250310T034950Z
UID:93-1760806800-1760824800@icatbay.com
SUMMARY:Festival Of Light - Diwali 2025 Celebration
DESCRIPTION:Diwali transcends religious boundaries\, uniting people of various faiths. This festival highlights the importance of harmony\, the victory of good over evil\, and the light that shines within us all. It’s a time when communities come together\, share meals\, and celebrate life
URL:https://icatbay.com/event/festival-of-light-diwali-2025-celebration/
LOCATION:West Arthur Community Centre\, 1914 Arthur St W\, Thunder Bay\, Ontario\, P7K 1C7\, Canada
CATEGORIES:Community Celebration
ORGANIZER;CN="India Canada Cultural Association - Thunder Bay":MAILTO:icatbay@outlook.com
END:VEVENT
BEGIN:VEVENT
DTSTART;TZID=America/Halifax:20250412T040000
DTEND;TZID=America/Halifax:20250412T180000
DTSTAMP:20260419T161431
CREATED:20250309T175003Z
LAST-MODIFIED:20250309T203603Z
UID:42-1744430400-1744480800@icatbay.com
SUMMARY:Baisakhi Celebration and AGM
DESCRIPTION:Vaisakhi (Punjabi: ਵੈਸਾਖੀ \, vaisākhī\, is also known as Baisākhī)\, is a very important day for Sikhs and one of the most colourful events in the Sikh calendar. It occurs during mid-April every year and traditionally in Punjab\, the festival corresponds with the first harvesting of the crops for the year.
URL:https://icatbay.com/event/baisakhi-celebration-and-agm/
LOCATION:West Arthur Community Centre\, 1914 Arthur St W\, Thunder Bay\, Ontario\, P7K 1C7\, Canada
CATEGORIES:Community Celebration
ORGANIZER;CN="India Canada Cultural Association - Thunder Bay":MAILTO:icatbay@outlook.com
END:VEVENT
BEGIN:VEVENT
DTSTART;TZID=America/Halifax:20250315T170000
DTEND;TZID=America/Halifax:20250315T210000
DTSTAMP:20260419T161431
CREATED:20250309T174335Z
LAST-MODIFIED:20250310T052147Z
UID:39-1742058000-1742072400@icatbay.com
SUMMARY:Taste Of India - 2025
DESCRIPTION:
URL:https://icatbay.com/event/taste-of-india-2025/
LOCATION:Italian Cultural Centre\, 132 Algoma St S\, Thunder Bay\, Ontario\, P7B 3B7\, Canada
CATEGORIES:Fund Raiser
ORGANIZER;CN="India Canada Cultural Association - Thunder Bay":MAILTO:icatbay@outlook.com
END:VEVENT
END:VCALENDAR