BEGIN:VCALENDAR
VERSION:2.0
PRODID:-//INDIA CANADA CULTURAL ASSOCIATION - THUNDER BAY - ECPv6.15.20//NONSGML v1.0//EN
CALSCALE:GREGORIAN
METHOD:PUBLISH
X-ORIGINAL-URL:https://icatbay.com
X-WR-CALDESC:Events for INDIA CANADA CULTURAL ASSOCIATION - THUNDER BAY
REFRESH-INTERVAL;VALUE=DURATION:PT1H
X-Robots-Tag:noindex
X-PUBLISHED-TTL:PT1H
BEGIN:VTIMEZONE
TZID:America/Halifax
BEGIN:DAYLIGHT
TZOFFSETFROM:-0400
TZOFFSETTO:-0300
TZNAME:ADT
DTSTART:20240310T060000
END:DAYLIGHT
BEGIN:STANDARD
TZOFFSETFROM:-0300
TZOFFSETTO:-0400
TZNAME:AST
DTSTART:20241103T050000
END:STANDARD
BEGIN:DAYLIGHT
TZOFFSETFROM:-0400
TZOFFSETTO:-0300
TZNAME:ADT
DTSTART:20250309T060000
END:DAYLIGHT
BEGIN:STANDARD
TZOFFSETFROM:-0300
TZOFFSETTO:-0400
TZNAME:AST
DTSTART:20251102T050000
END:STANDARD
BEGIN:DAYLIGHT
TZOFFSETFROM:-0400
TZOFFSETTO:-0300
TZNAME:ADT
DTSTART:20260308T060000
END:DAYLIGHT
BEGIN:STANDARD
TZOFFSETFROM:-0300
TZOFFSETTO:-0400
TZNAME:AST
DTSTART:20261101T050000
END:STANDARD
END:VTIMEZONE
BEGIN:VEVENT
DTSTART;TZID=America/Halifax:20251018T170000
DTEND;TZID=America/Halifax:20251018T220000
DTSTAMP:20260423T042822
CREATED:20250309T205956Z
LAST-MODIFIED:20250310T034950Z
UID:93-1760806800-1760824800@icatbay.com
SUMMARY:Festival Of Light - Diwali 2025 Celebration
DESCRIPTION:Diwali transcends religious boundaries\, uniting people of various faiths. This festival highlights the importance of harmony\, the victory of good over evil\, and the light that shines within us all. It’s a time when communities come together\, share meals\, and celebrate life
URL:https://icatbay.com/event/festival-of-light-diwali-2025-celebration/
LOCATION:West Arthur Community Centre\, 1914 Arthur St W\, Thunder Bay\, Ontario\, P7K 1C7\, Canada
CATEGORIES:Community Celebration
ORGANIZER;CN="India Canada Cultural Association - Thunder Bay":MAILTO:icatbay@outlook.com
END:VEVENT
END:VCALENDAR